BEGIN:VCALENDAR
VERSION:2.0
PRODID:-//RCCG Praise House - ECPv5.8.2//NONSGML v1.0//EN
CALSCALE:GREGORIAN
METHOD:PUBLISH
X-WR-CALNAME:RCCG Praise House
X-ORIGINAL-URL:https://www.rccgpraisehouse.org
X-WR-CALDESC:Events for RCCG Praise House
BEGIN:VTIMEZONE
TZID:UTC
BEGIN:STANDARD
TZOFFSETFROM:+0000
TZOFFSETTO:+0000
TZNAME:UTC
DTSTART:20210101T000000
END:STANDARD
END:VTIMEZONE
BEGIN:VEVENT
DTSTART;TZID=UTC:20211003T183000
DTEND;TZID=UTC:20211003T193000
DTSTAMP:20260423T211958
CREATED:20201003T132555Z
LAST-MODIFIED:20210621T211800Z
UID:1505-1633285800-1633289400@www.rccgpraisehouse.org
SUMMARY:Sunday Thanksgiving Service
DESCRIPTION:
URL:https://www.rccgpraisehouse.org/event/sunday-thanksgiving-service-4/
LOCATION:RCCG Praise House\, 6240 Brewbaker BLVD\, Montgomery\, AL\, 36116\, United States
ATTACH;FMTTYPE=image/jpeg:https://www.rccgpraisehouse.org/wp-content/uploads/2019/09/event-single-img3.jpg
ORGANIZER;CN="RCCG%20Praise%20House":MAILTO:info@rccgpraisehouse.com
END:VEVENT
BEGIN:VEVENT
DTSTART;TZID=UTC:20211001T183000
DTEND;TZID=UTC:20211001T193000
DTSTAMP:20260423T211958
CREATED:20201001T085654Z
LAST-MODIFIED:20221219T144157Z
UID:1878-1633113000-1633116600@www.rccgpraisehouse.org
SUMMARY:Prayer Meeting
DESCRIPTION:Would you like to improve your prayer life? Do you have issues you want to prayer about? Would you like time out to pray with brethren? \nThen join intercessors on every Friday at the church for a time of prayer
URL:https://www.rccgpraisehouse.org/event/prayer-meeting-14/
LOCATION:RCCG Praise House\, 6240 Brewbaker BLVD\, Montgomery\, AL\, 36116\, United States
ATTACH;FMTTYPE=image/jpeg:https://www.rccgpraisehouse.org/wp-content/uploads/2019/10/h1-slider-1-slide-1.jpg
ORGANIZER;CN="RCCG%20Praise%20House":MAILTO:info@rccgpraisehouse.com
END:VEVENT
BEGIN:VEVENT
DTSTART;TZID=UTC:20210929T183000
DTEND;TZID=UTC:20210929T193000
DTSTAMP:20260423T211958
CREATED:20200929T130126Z
LAST-MODIFIED:20221219T134458Z
UID:1500-1632940200-1632943800@www.rccgpraisehouse.org
SUMMARY:Bible Study
DESCRIPTION:This is the time of the week where we search the scriptures and dig deep into the Word of God. It is an interactive session whereby the Word of God is broken down into simpler terms.
URL:https://www.rccgpraisehouse.org/event/bible-study-13/
LOCATION:RCCG Praise House\, 6240 Brewbaker BLVD\, Montgomery\, AL\, 36116\, United States
ATTACH;FMTTYPE=image/jpeg:https://www.rccgpraisehouse.org/wp-content/uploads/2021/06/4.jpg
ORGANIZER;CN="RCCG%20Praise%20House":MAILTO:info@rccgpraisehouse.com
END:VEVENT
BEGIN:VEVENT
DTSTART;TZID=UTC:20210924T183000
DTEND;TZID=UTC:20210924T193000
DTSTAMP:20260423T211958
CREATED:20200924T085515Z
LAST-MODIFIED:20221219T144209Z
UID:1876-1632508200-1632511800@www.rccgpraisehouse.org
SUMMARY:Prayer Meeting
DESCRIPTION:Would you like to improve your prayer life? Do you have issues you want to prayer about? Would you like time out to pray with brethren? \nThen join intercessors on every Friday at the church for a time of prayer
URL:https://www.rccgpraisehouse.org/event/prayer-meeting-13/
LOCATION:RCCG Praise House\, 6240 Brewbaker BLVD\, Montgomery\, AL\, 36116\, United States
ATTACH;FMTTYPE=image/jpeg:https://www.rccgpraisehouse.org/wp-content/uploads/2019/10/h1-slider-1-slide-1.jpg
ORGANIZER;CN="RCCG%20Praise%20House":MAILTO:info@rccgpraisehouse.com
END:VEVENT
BEGIN:VEVENT
DTSTART;TZID=UTC:20210922T183000
DTEND;TZID=UTC:20210922T193000
DTSTAMP:20260423T211958
CREATED:20200922T085423Z
LAST-MODIFIED:20221219T134511Z
UID:1874-1632335400-1632339000@www.rccgpraisehouse.org
SUMMARY:Bible Study
DESCRIPTION:This is the time of the week where we search the scriptures and dig deep into the Word of God. It is an interactive session whereby the Word of God is broken down into simpler terms.
URL:https://www.rccgpraisehouse.org/event/bible-study-12/
LOCATION:RCCG Praise House\, 6240 Brewbaker BLVD\, Montgomery\, AL\, 36116\, United States
ATTACH;FMTTYPE=image/jpeg:https://www.rccgpraisehouse.org/wp-content/uploads/2021/06/4.jpg
ORGANIZER;CN="RCCG%20Praise%20House":MAILTO:info@rccgpraisehouse.com
END:VEVENT
BEGIN:VEVENT
DTSTART;TZID=UTC:20210917T183000
DTEND;TZID=UTC:20210917T193000
DTSTAMP:20260423T211958
CREATED:20200917T085244Z
LAST-MODIFIED:20221219T144230Z
UID:1863-1631903400-1631907000@www.rccgpraisehouse.org
SUMMARY:Prayer Meeting
DESCRIPTION:Would you like to improve your prayer life? Do you have issues you want to prayer about? Would you like time out to pray with brethren? \nThen join intercessors on every Friday at the church for a time of prayer
URL:https://www.rccgpraisehouse.org/event/prayer-meeting-12/
LOCATION:RCCG Praise House\, 6240 Brewbaker BLVD\, Montgomery\, AL\, 36116\, United States
ATTACH;FMTTYPE=image/jpeg:https://www.rccgpraisehouse.org/wp-content/uploads/2019/10/h1-slider-1-slide-1.jpg
ORGANIZER;CN="RCCG%20Praise%20House":MAILTO:info@rccgpraisehouse.com
END:VEVENT
BEGIN:VEVENT
DTSTART;TZID=UTC:20210915T183000
DTEND;TZID=UTC:20210915T193000
DTSTAMP:20260423T211958
CREATED:20200915T083946Z
LAST-MODIFIED:20221219T134347Z
UID:1861-1631730600-1631734200@www.rccgpraisehouse.org
SUMMARY:Bible Study
DESCRIPTION:This is the time of the week where we search the scriptures and dig deep into the Word of God. It is an interactive session whereby the Word of God is broken down into simpler terms.
URL:https://www.rccgpraisehouse.org/event/bible-study-11/
LOCATION:RCCG Praise House\, 6240 Brewbaker BLVD\, Montgomery\, AL\, 36116\, United States
ATTACH;FMTTYPE=image/jpeg:https://www.rccgpraisehouse.org/wp-content/uploads/2021/06/4.jpg
ORGANIZER;CN="RCCG%20Praise%20House":MAILTO:info@rccgpraisehouse.com
END:VEVENT
BEGIN:VEVENT
DTSTART;TZID=UTC:20210910T183000
DTEND;TZID=UTC:20210910T193000
DTSTAMP:20260423T211958
CREATED:20200910T083650Z
LAST-MODIFIED:20221219T144249Z
UID:1859-1631298600-1631302200@www.rccgpraisehouse.org
SUMMARY:Prayer Meeting
DESCRIPTION:Would you like to improve your prayer life? Do you have issues you want to prayer about? Would you like time out to pray with brethren? \nThen join intercessors on every Friday at the church for a time of prayer
URL:https://www.rccgpraisehouse.org/event/prayer-meeting-11/
LOCATION:RCCG Praise House\, 6240 Brewbaker BLVD\, Montgomery\, AL\, 36116\, United States
ATTACH;FMTTYPE=image/jpeg:https://www.rccgpraisehouse.org/wp-content/uploads/2019/10/h1-slider-1-slide-1.jpg
ORGANIZER;CN="RCCG%20Praise%20House":MAILTO:info@rccgpraisehouse.com
END:VEVENT
BEGIN:VEVENT
DTSTART;TZID=UTC:20210908T183000
DTEND;TZID=UTC:20210908T193000
DTSTAMP:20260423T211958
CREATED:20200908T143013Z
LAST-MODIFIED:20221219T134608Z
UID:1115-1631125800-1631129400@www.rccgpraisehouse.org
SUMMARY:Bible Study
DESCRIPTION:This is the time of the week where we search the scriptures and dig deep into the Word of God. It is an interactive session whereby the Word of God is broken down into simpler terms.
URL:https://www.rccgpraisehouse.org/event/bible-study-10/
LOCATION:RCCG Praise House\, 6240 Brewbaker BLVD\, Montgomery\, AL\, 36116\, United States
ATTACH;FMTTYPE=image/jpeg:https://www.rccgpraisehouse.org/wp-content/uploads/2021/06/4.jpg
ORGANIZER;CN="RCCG%20Praise%20House":MAILTO:info@rccgpraisehouse.com
END:VEVENT
BEGIN:VEVENT
DTSTART;TZID=UTC:20210905T100000
DTEND;TZID=UTC:20210905T130000
DTSTAMP:20260423T211958
CREATED:20200905T121422Z
LAST-MODIFIED:20210621T211907Z
UID:184-1630836000-1630846800@www.rccgpraisehouse.org
SUMMARY:Sunday Thanksgiving Service
DESCRIPTION:
URL:https://www.rccgpraisehouse.org/event/sunday-thanksgiving-service-3/
LOCATION:RCCG Praise House\, 6240 Brewbaker BLVD\, Montgomery\, AL\, 36116\, United States
ATTACH;FMTTYPE=image/jpeg:https://www.rccgpraisehouse.org/wp-content/uploads/2019/08/event-single-img5.jpg
ORGANIZER;CN="RCCG%20Praise%20House":MAILTO:info@rccgpraisehouse.com
END:VEVENT
BEGIN:VEVENT
DTSTART;TZID=UTC:20210903T183000
DTEND;TZID=UTC:20210903T193000
DTSTAMP:20260423T211958
CREATED:20200903T114552Z
LAST-MODIFIED:20221219T144303Z
UID:164-1630693800-1630697400@www.rccgpraisehouse.org
SUMMARY:Prayer Meeting
DESCRIPTION:Would you like to improve your prayer life? Do you have issues you want to prayer about? Would you like time out to pray with brethren? \nThen join intercessors on every Friday at the church for a time of prayer
URL:https://www.rccgpraisehouse.org/event/prayer-meeting-10/
LOCATION:RCCG Praise House\, 6240 Brewbaker BLVD\, Montgomery\, AL\, 36116\, United States
ATTACH;FMTTYPE=image/jpeg:https://www.rccgpraisehouse.org/wp-content/uploads/2019/10/h1-slider-1-slide-1.jpg
ORGANIZER;CN="RCCG%20Praise%20House":MAILTO:info@rccgpraisehouse.com
END:VEVENT
BEGIN:VEVENT
DTSTART;TZID=UTC:20210901T183000
DTEND;TZID=UTC:20210901T193000
DTSTAMP:20260423T211958
CREATED:20200901T075018Z
LAST-MODIFIED:20221219T134606Z
UID:94-1630521000-1630524600@www.rccgpraisehouse.org
SUMMARY:Bible Study
DESCRIPTION:This is the time of the week where we search the scriptures and dig deep into the Word of God. It is an interactive session whereby the Word of God is broken down into simpler terms.
URL:https://www.rccgpraisehouse.org/event/bible-study-9/
LOCATION:RCCG Praise House\, 6240 Brewbaker BLVD\, Montgomery\, AL\, 36116\, United States
ATTACH;FMTTYPE=image/jpeg:https://www.rccgpraisehouse.org/wp-content/uploads/2021/06/4.jpg
ORGANIZER;CN="RCCG%20Praise%20House":MAILTO:info@rccgpraisehouse.com
END:VEVENT
BEGIN:VEVENT
DTSTART;TZID=UTC:20210829T100000
DTEND;TZID=UTC:20210829T130000
DTSTAMP:20260423T211958
CREATED:20210820T163118Z
LAST-MODIFIED:20210820T172129Z
UID:2758-1630231200-1630242000@www.rccgpraisehouse.org
SUMMARY:Sunday School Day
DESCRIPTION:Would you like to improve your prayer life? Do you have issues you want to prayer about? Would you like time out to pray with brethren? \nThen join intercessors on every Friday at the church for a time of prayer
URL:https://www.rccgpraisehouse.org/event/prayer-meeting-22/
LOCATION:RCCG Praise House\, 6240 Brewbaker BLVD\, Montgomery\, AL\, 36116\, United States
ATTACH;FMTTYPE=image/jpeg:https://www.rccgpraisehouse.org/wp-content/uploads/2021/08/Untitled-1-copy.jpg
ORGANIZER;CN="RCCG%20Praise%20House":MAILTO:info@rccgpraisehouse.com
END:VEVENT
BEGIN:VEVENT
DTSTART;TZID=UTC:20210827T200000
DTEND;TZID=UTC:20210827T230000
DTSTAMP:20260423T211958
CREATED:20200827T091348Z
LAST-MODIFIED:20210820T164111Z
UID:1911-1630094400-1630105200@www.rccgpraisehouse.org
SUMMARY:Worship and Prayer Vigil
DESCRIPTION:Would you like to improve your prayer life? Do you have issues you want to prayer about? Would you like time out to pray with brethren? \nThen join intercessors on every Friday at the church for a time of prayer
URL:https://www.rccgpraisehouse.org/event/prayer-meeting-9/
LOCATION:RCCG Praise House\, 6240 Brewbaker BLVD\, Montgomery\, AL\, 36116\, United States
ATTACH;FMTTYPE=image/jpeg:https://www.rccgpraisehouse.org/wp-content/uploads/2020/08/prayer_Night.jpg
ORGANIZER;CN="RCCG%20Praise%20House":MAILTO:info@rccgpraisehouse.com
END:VEVENT
BEGIN:VEVENT
DTSTART;TZID=UTC:20210825T183000
DTEND;TZID=UTC:20210825T193000
DTSTAMP:20260423T211958
CREATED:20200825T091436Z
LAST-MODIFIED:20221219T134620Z
UID:1913-1629916200-1629919800@www.rccgpraisehouse.org
SUMMARY:Bible Study
DESCRIPTION:This is the time of the week where we search the scriptures and dig deep into the Word of God. It is an interactive session whereby the Word of God is broken down into simpler terms.
URL:https://www.rccgpraisehouse.org/event/bible-study-8/
LOCATION:RCCG Praise House\, 6240 Brewbaker BLVD\, Montgomery\, AL\, 36116\, United States
ATTACH;FMTTYPE=image/jpeg:https://www.rccgpraisehouse.org/wp-content/uploads/2021/06/4.jpg
ORGANIZER;CN="RCCG%20Praise%20House":MAILTO:info@rccgpraisehouse.com
END:VEVENT
BEGIN:VEVENT
DTSTART;TZID=UTC:20210820T183000
DTEND;TZID=UTC:20210820T203000
DTSTAMP:20260423T211958
CREATED:20200820T091640Z
LAST-MODIFIED:20221219T144320Z
UID:1915-1629484200-1629491400@www.rccgpraisehouse.org
SUMMARY:Prayer Meeting
DESCRIPTION:Would you like to improve your prayer life? Do you have issues you want to prayer about? Would you like time out to pray with brethren? \nThen join intercessors on every Friday at the church for a time of prayer
URL:https://www.rccgpraisehouse.org/event/prayer-meeting-8/
LOCATION:RCCG Praise House\, 6240 Brewbaker BLVD\, Montgomery\, AL\, 36116\, United States
ATTACH;FMTTYPE=image/jpeg:https://www.rccgpraisehouse.org/wp-content/uploads/2019/10/h1-slider-1-slide-1.jpg
ORGANIZER;CN="RCCG%20Praise%20House":MAILTO:info@rccgpraisehouse.com
END:VEVENT
BEGIN:VEVENT
DTSTART;TZID=UTC:20210818T183000
DTEND;TZID=UTC:20210818T193000
DTSTAMP:20260423T211958
CREATED:20200818T091738Z
LAST-MODIFIED:20221219T134933Z
UID:1917-1629311400-1629315000@www.rccgpraisehouse.org
SUMMARY:Bible Study
DESCRIPTION:This is the time of the week where we search the scriptures and dig deep into the Word of God. It is an interactive session whereby the Word of God is broken down into simpler terms.
URL:https://www.rccgpraisehouse.org/event/bible-study-7/
LOCATION:RCCG Praise House\, 6240 Brewbaker BLVD\, Montgomery\, AL\, 36116\, United States
ATTACH;FMTTYPE=image/jpeg:https://www.rccgpraisehouse.org/wp-content/uploads/2021/06/4.jpg
ORGANIZER;CN="RCCG%20Praise%20House":MAILTO:info@rccgpraisehouse.com
END:VEVENT
BEGIN:VEVENT
DTSTART;TZID=UTC:20210813T183000
DTEND;TZID=UTC:20210813T193000
DTSTAMP:20260423T211958
CREATED:20200813T091819Z
LAST-MODIFIED:20221219T144324Z
UID:1919-1628879400-1628883000@www.rccgpraisehouse.org
SUMMARY:Prayer Meeting
DESCRIPTION:Would you like to improve your prayer life? Do you have issues you want to prayer about? Would you like time out to pray with brethren? \nThen join intercessors on every Friday at the church for a time of prayer
URL:https://www.rccgpraisehouse.org/event/prayer-meeting-7/
LOCATION:RCCG Praise House\, 6240 Brewbaker BLVD\, Montgomery\, AL\, 36116\, United States
ATTACH;FMTTYPE=image/jpeg:https://www.rccgpraisehouse.org/wp-content/uploads/2019/09/event-single-img3.jpg
ORGANIZER;CN="RCCG%20Praise%20House":MAILTO:info@rccgpraisehouse.com
END:VEVENT
BEGIN:VEVENT
DTSTART;TZID=UTC:20210811T183000
DTEND;TZID=UTC:20210811T193000
DTSTAMP:20260423T211958
CREATED:20200811T091856Z
LAST-MODIFIED:20221219T134753Z
UID:1921-1628706600-1628710200@www.rccgpraisehouse.org
SUMMARY:Bible Study
DESCRIPTION:This is the time of the week where we search the scriptures and dig deep into the Word of God. It is an interactive session whereby the Word of God is broken down into simpler terms.
URL:https://www.rccgpraisehouse.org/event/bible-study-6/
LOCATION:RCCG Praise House\, 6240 Brewbaker BLVD\, Montgomery\, AL\, 36116\, United States
ATTACH;FMTTYPE=image/jpeg:https://www.rccgpraisehouse.org/wp-content/uploads/2021/06/4.jpg
ORGANIZER;CN="RCCG%20Praise%20House":MAILTO:info@rccgpraisehouse.com
END:VEVENT
BEGIN:VEVENT
DTSTART;TZID=UTC:20210806T183000
DTEND;TZID=UTC:20210806T193000
DTSTAMP:20260423T211958
CREATED:20200806T092004Z
LAST-MODIFIED:20221219T144524Z
UID:1923-1628274600-1628278200@www.rccgpraisehouse.org
SUMMARY:Prayer Meeting
DESCRIPTION:Would you like to improve your prayer life? Do you have issues you want to prayer about? Would you like time out to pray with brethren? \nThen join intercessors on every Friday at the church for a time of prayer
URL:https://www.rccgpraisehouse.org/event/prayer-meeting-6/
LOCATION:RCCG Praise House\, 6240 Brewbaker BLVD\, Montgomery\, AL\, 36116\, United States
ATTACH;FMTTYPE=image/jpeg:https://www.rccgpraisehouse.org/wp-content/uploads/2019/10/h1-slider-1-slide-1.jpg
ORGANIZER;CN="RCCG%20Praise%20House":MAILTO:info@rccgpraisehouse.com
END:VEVENT
BEGIN:VEVENT
DTSTART;TZID=UTC:20210804T183000
DTEND;TZID=UTC:20210804T193000
DTSTAMP:20260423T211958
CREATED:20200804T092033Z
LAST-MODIFIED:20221219T135016Z
UID:1925-1628101800-1628105400@www.rccgpraisehouse.org
SUMMARY:Bible Study
DESCRIPTION:This is the time of the week where we search the scriptures and dig deep into the Word of God. It is an interactive session whereby the Word of God is broken down into simpler terms.
URL:https://www.rccgpraisehouse.org/event/bible-study-5/
LOCATION:RCCG Praise House\, 6240 Brewbaker BLVD\, Montgomery\, AL\, 36116\, United States
ATTACH;FMTTYPE=image/jpeg:https://www.rccgpraisehouse.org/wp-content/uploads/2021/06/4.jpg
ORGANIZER;CN="RCCG%20Praise%20House":MAILTO:info@rccgpraisehouse.com
END:VEVENT
BEGIN:VEVENT
DTSTART;TZID=UTC:20210801T100000
DTEND;TZID=UTC:20210801T130000
DTSTAMP:20260423T211958
CREATED:20200801T092125Z
LAST-MODIFIED:20210621T212131Z
UID:1927-1627812000-1627822800@www.rccgpraisehouse.org
SUMMARY:Sunday Thanksgiving Service
DESCRIPTION:
URL:https://www.rccgpraisehouse.org/event/sunday-thanksgiving-service-2/
LOCATION:RCCG Praise House\, 6240 Brewbaker BLVD\, Montgomery\, AL\, 36116\, United States
ATTACH;FMTTYPE=image/jpeg:https://www.rccgpraisehouse.org/wp-content/uploads/2019/09/event-single-img3.jpg
ORGANIZER;CN="RCCG%20Praise%20House":MAILTO:info@rccgpraisehouse.com
END:VEVENT
BEGIN:VEVENT
DTSTART;TZID=UTC:20210730T183000
DTEND;TZID=UTC:20210730T193000
DTSTAMP:20260423T211958
CREATED:20200730T092212Z
LAST-MODIFIED:20210621T212135Z
UID:1929-1627669800-1627673400@www.rccgpraisehouse.org
SUMMARY:Prayer Meeting
DESCRIPTION:Would you like to improve your prayer life? Do you have issues you want to prayer about? Would you like time out to pray with brethren? \nThen join intercessors on every Friday at the church for a time of prayer
URL:https://www.rccgpraisehouse.org/event/prayer-meeting-5/
LOCATION:RCCG Praise House\, 6240 Brewbaker BLVD\, Montgomery\, AL\, 36116\, United States
ATTACH;FMTTYPE=image/jpeg:https://www.rccgpraisehouse.org/wp-content/uploads/2019/09/event-single-img1.jpg
ORGANIZER;CN="RCCG%20Praise%20House":MAILTO:info@rccgpraisehouse.com
END:VEVENT
BEGIN:VEVENT
DTSTART;TZID=UTC:20210728T183000
DTEND;TZID=UTC:20210728T193000
DTSTAMP:20260423T211958
CREATED:20200728T092423Z
LAST-MODIFIED:20221219T135027Z
UID:1931-1627497000-1627500600@www.rccgpraisehouse.org
SUMMARY:Bible Study
DESCRIPTION:This is the time of the week where we search the scriptures and dig deep into the Word of God. It is an interactive session whereby the Word of God is broken down into simpler terms.
URL:https://www.rccgpraisehouse.org/event/bible-study-4/
LOCATION:RCCG Praise House\, 6240 Brewbaker BLVD\, Montgomery\, AL\, 36116\, United States
ATTACH;FMTTYPE=image/jpeg:https://www.rccgpraisehouse.org/wp-content/uploads/2021/06/4.jpg
ORGANIZER;CN="RCCG%20Praise%20House":MAILTO:info@rccgpraisehouse.com
END:VEVENT
BEGIN:VEVENT
DTSTART;TZID=UTC:20210723T183000
DTEND;TZID=UTC:20210723T193000
DTSTAMP:20260423T211958
CREATED:20200723T092646Z
LAST-MODIFIED:20210621T212146Z
UID:1936-1627065000-1627068600@www.rccgpraisehouse.org
SUMMARY:Prayer Meeting
DESCRIPTION:Would you like to improve your prayer life? Do you have issues you want to prayer about? Would you like time out to pray with brethren? \nThen join intercessors on every Friday at the church for a time of prayer
URL:https://www.rccgpraisehouse.org/event/prayer-meeting-4/
LOCATION:RCCG Praise House\, 6240 Brewbaker BLVD\, Montgomery\, AL\, 36116\, United States
ATTACH;FMTTYPE=image/jpeg:https://www.rccgpraisehouse.org/wp-content/uploads/2019/08/event-single-img6.jpg
ORGANIZER;CN="RCCG%20Praise%20House":MAILTO:info@rccgpraisehouse.com
END:VEVENT
BEGIN:VEVENT
DTSTART;TZID=UTC:20210721T183000
DTEND;TZID=UTC:20210721T193000
DTSTAMP:20260423T211958
CREATED:20200721T092731Z
LAST-MODIFIED:20221219T135039Z
UID:1938-1626892200-1626895800@www.rccgpraisehouse.org
SUMMARY:Bible Study
DESCRIPTION:This is the time of the week where we search the scriptures and dig deep into the Word of God. It is an interactive session whereby the Word of God is broken down into simpler terms.
URL:https://www.rccgpraisehouse.org/event/bible-study-3/
LOCATION:RCCG Praise House\, 6240 Brewbaker BLVD\, Montgomery\, AL\, 36116\, United States
ATTACH;FMTTYPE=image/jpeg:https://www.rccgpraisehouse.org/wp-content/uploads/2021/06/4.jpg
ORGANIZER;CN="RCCG%20Praise%20House":MAILTO:info@rccgpraisehouse.com
END:VEVENT
BEGIN:VEVENT
DTSTART;TZID=UTC:20210716T183000
DTEND;TZID=UTC:20210716T193000
DTSTAMP:20260423T211958
CREATED:20200716T092801Z
LAST-MODIFIED:20210621T212207Z
UID:1940-1626460200-1626463800@www.rccgpraisehouse.org
SUMMARY:Prayer Meeting
DESCRIPTION:Would you like to improve your prayer life? Do you have issues you want to prayer about? Would you like time out to pray with brethren? \nThen join intercessors on every Friday at the church for a time of prayer
URL:https://www.rccgpraisehouse.org/event/prayer-meeting-3/
LOCATION:RCCG Praise House\, 6240 Brewbaker BLVD\, Montgomery\, AL\, 36116\, United States
ATTACH;FMTTYPE=image/jpeg:https://www.rccgpraisehouse.org/wp-content/uploads/2019/08/event-single-img4.jpg
ORGANIZER;CN="RCCG%20Praise%20House":MAILTO:info@rccgpraisehouse.com
END:VEVENT
BEGIN:VEVENT
DTSTART;TZID=UTC:20210714T183000
DTEND;TZID=UTC:20210714T193000
DTSTAMP:20260423T211958
CREATED:20200714T092849Z
LAST-MODIFIED:20221219T135053Z
UID:1942-1626287400-1626291000@www.rccgpraisehouse.org
SUMMARY:Bible Study
DESCRIPTION:This is the time of the week where we search the scriptures and dig deep into the Word of God. It is an interactive session whereby the Word of God is broken down into simpler terms.
URL:https://www.rccgpraisehouse.org/event/bible-study-2/
LOCATION:RCCG Praise House\, 6240 Brewbaker BLVD\, Montgomery\, AL\, 36116\, United States
CATEGORIES:Praise
ATTACH;FMTTYPE=image/jpeg:https://www.rccgpraisehouse.org/wp-content/uploads/2021/06/4.jpg
ORGANIZER;CN="RCCG%20Praise%20House":MAILTO:info@rccgpraisehouse.com
END:VEVENT
BEGIN:VEVENT
DTSTART;TZID=UTC:20210709T183000
DTEND;TZID=UTC:20210709T193000
DTSTAMP:20260423T211958
CREATED:20200709T094158Z
LAST-MODIFIED:20210621T212222Z
UID:1955-1625855400-1625859000@www.rccgpraisehouse.org
SUMMARY:Prayer Meeting
DESCRIPTION:Would you like to improve your prayer life? Do you have issues you want to prayer about? Would you like time out to pray with brethren? \nThen join intercessors on every Friday at the church for a time of prayer
URL:https://www.rccgpraisehouse.org/event/prayer-meeting-2/
LOCATION:RCCG Praise House\, 6240 Brewbaker BLVD\, Montgomery\, AL\, 36116\, United States
CATEGORIES:Praise
ATTACH;FMTTYPE=image/jpeg:https://www.rccgpraisehouse.org/wp-content/uploads/2019/09/event-single-img1.jpg
ORGANIZER;CN="RCCG%20Praise%20House":MAILTO:info@rccgpraisehouse.com
END:VEVENT
BEGIN:VEVENT
DTSTART;TZID=UTC:20210707T183000
DTEND;TZID=UTC:20210707T193000
DTSTAMP:20260423T211958
CREATED:20200707T094256Z
LAST-MODIFIED:20221219T135104Z
UID:1957-1625682600-1625686200@www.rccgpraisehouse.org
SUMMARY:Bible Study
DESCRIPTION:This is the time of the week where we search the scriptures and dig deep into the Word of God. It is an interactive session whereby the Word of God is broken down into simpler terms.
URL:https://www.rccgpraisehouse.org/event/bible-study/
LOCATION:RCCG Praise House\, 6240 Brewbaker BLVD\, Montgomery\, AL\, 36116\, United States
CATEGORIES:Praise
ATTACH;FMTTYPE=image/jpeg:https://www.rccgpraisehouse.org/wp-content/uploads/2021/06/4.jpg
ORGANIZER;CN="RCCG%20Praise%20House":MAILTO:info@rccgpraisehouse.com
END:VEVENT
END:VCALENDAR