BEGIN:VCALENDAR
VERSION:2.0
PRODID:-//RCCG Praise House - ECPv5.8.2//NONSGML v1.0//EN
CALSCALE:GREGORIAN
METHOD:PUBLISH
X-WR-CALNAME:RCCG Praise House
X-ORIGINAL-URL:https://www.rccgpraisehouse.org
X-WR-CALDESC:Events for RCCG Praise House
BEGIN:VTIMEZONE
TZID:UTC
BEGIN:STANDARD
TZOFFSETFROM:+0000
TZOFFSETTO:+0000
TZNAME:UTC
DTSTART:20230101T000000
END:STANDARD
END:VTIMEZONE
BEGIN:VEVENT
DTSTART;TZID=UTC:20230211T160000
DTEND;TZID=UTC:20230211T233000
DTSTAMP:20260423T153328
CREATED:20230120T091127Z
LAST-MODIFIED:20230120T152652Z
UID:2905-1676131200-1676158200@www.rccgpraisehouse.org
SUMMARY:Understanding Love God's Way
DESCRIPTION:Join us in understanding Love God’s way.
URL:https://www.rccgpraisehouse.org/event/understanding-love-gods-way/
LOCATION:RCCG Praise House\, 6240 Brewbaker BLVD\, Montgomery\, AL\, 36116\, United States
ATTACH;FMTTYPE=image/jpeg:https://www.rccgpraisehouse.org/wp-content/uploads/2023/01/Untitled-1.jpg
ORGANIZER;CN="RCCG%20Praise%20House":MAILTO:info@rccgpraisehouse.com
END:VEVENT
END:VCALENDAR