BEGIN:VCALENDAR
VERSION:2.0
PRODID:-//RCCG Praise House - ECPv5.8.2//NONSGML v1.0//EN
CALSCALE:GREGORIAN
METHOD:PUBLISH
X-WR-CALNAME:RCCG Praise House
X-ORIGINAL-URL:https://www.rccgpraisehouse.org
X-WR-CALDESC:Events for RCCG Praise House
BEGIN:VTIMEZONE
TZID:UTC
BEGIN:STANDARD
TZOFFSETFROM:+0000
TZOFFSETTO:+0000
TZNAME:UTC
DTSTART:20220101T000000
END:STANDARD
END:VTIMEZONE
BEGIN:VEVENT
DTSTART;TZID=UTC:20220130T110000
DTEND;TZID=UTC:20220130T130000
DTSTAMP:20260423T175405
CREATED:20211207T134319Z
LAST-MODIFIED:20221220T061629Z
UID:2840-1643540400-1643547600@www.rccgpraisehouse.org
SUMMARY:Sunday Worship Service
DESCRIPTION:
URL:https://www.rccgpraisehouse.org/event/sunday-worship-service-8/
LOCATION:RCCG Praise House\, 6240 Brewbaker BLVD\, Montgomery\, AL\, 36116\, United States
ATTACH;FMTTYPE=image/jpeg:https://www.rccgpraisehouse.org/wp-content/uploads/2021/12/Untitled-2.jpg
ORGANIZER;CN="RCCG%20Praise%20House":MAILTO:info@rccgpraisehouse.com
END:VEVENT
END:VCALENDAR