BEGIN:VCALENDAR
VERSION:2.0
PRODID:-//RCCG Praise House - ECPv5.8.2//NONSGML v1.0//EN
CALSCALE:GREGORIAN
METHOD:PUBLISH
X-WR-CALNAME:RCCG Praise House
X-ORIGINAL-URL:https://www.rccgpraisehouse.org
X-WR-CALDESC:Events for RCCG Praise House
BEGIN:VTIMEZONE
TZID:UTC
BEGIN:STANDARD
TZOFFSETFROM:+0000
TZOFFSETTO:+0000
TZNAME:UTC
DTSTART:20210101T000000
END:STANDARD
END:VTIMEZONE
BEGIN:VEVENT
DTSTART;TZID=UTC:20210702T100000
DTEND;TZID=UTC:20210702T130000
DTSTAMP:20260423T180831
CREATED:20200702T093047Z
LAST-MODIFIED:20210621T212259Z
UID:1946-1625220000-1625230800@www.rccgpraisehouse.org
SUMMARY:Prayer Meeting
DESCRIPTION:Would you like to improve your prayer life? Do you have issues you want to prayer about? Would you like time out to pray with brethren? \nThen join intercessors on every Friday at the church for a time of prayer
URL:https://www.rccgpraisehouse.org/event/prayer-meeting/
LOCATION:RCCG Praise House\, 6240 Brewbaker BLVD\, Montgomery\, AL\, 36116\, United States
CATEGORIES:Praise
ATTACH;FMTTYPE=image/jpeg:https://www.rccgpraisehouse.org/wp-content/uploads/2019/09/event-single-img2.jpg
ORGANIZER;CN="RCCG%20Praise%20House":MAILTO:info@rccgpraisehouse.com
END:VEVENT
END:VCALENDAR