BEGIN:VCALENDAR
VERSION:2.0
PRODID:-//RCCG Praise House - ECPv5.8.2//NONSGML v1.0//EN
CALSCALE:GREGORIAN
METHOD:PUBLISH
X-WR-CALNAME:RCCG Praise House
X-ORIGINAL-URL:https://www.rccgpraisehouse.org
X-WR-CALDESC:Events for RCCG Praise House
BEGIN:VTIMEZONE
TZID:UTC
BEGIN:STANDARD
TZOFFSETFROM:+0000
TZOFFSETTO:+0000
TZNAME:UTC
DTSTART:20210101T000000
END:STANDARD
END:VTIMEZONE
BEGIN:VEVENT
DTSTART;TZID=UTC:20210827T200000
DTEND;TZID=UTC:20210827T230000
DTSTAMP:20260423T180857
CREATED:20200827T091348Z
LAST-MODIFIED:20210820T164111Z
UID:1911-1630094400-1630105200@www.rccgpraisehouse.org
SUMMARY:Worship and Prayer Vigil
DESCRIPTION:Would you like to improve your prayer life? Do you have issues you want to prayer about? Would you like time out to pray with brethren? \nThen join intercessors on every Friday at the church for a time of prayer
URL:https://www.rccgpraisehouse.org/event/prayer-meeting-9/
LOCATION:RCCG Praise House\, 6240 Brewbaker BLVD\, Montgomery\, AL\, 36116\, United States
ATTACH;FMTTYPE=image/jpeg:https://www.rccgpraisehouse.org/wp-content/uploads/2020/08/prayer_Night.jpg
ORGANIZER;CN="RCCG%20Praise%20House":MAILTO:info@rccgpraisehouse.com
END:VEVENT
END:VCALENDAR