BEGIN:VCALENDAR
VERSION:2.0
PRODID:-//RCCG Praise House - ECPv5.8.2//NONSGML v1.0//EN
CALSCALE:GREGORIAN
METHOD:PUBLISH
X-WR-CALNAME:RCCG Praise House
X-ORIGINAL-URL:https://www.rccgpraisehouse.org
X-WR-CALDESC:Events for RCCG Praise House
BEGIN:VTIMEZONE
TZID:UTC
BEGIN:STANDARD
TZOFFSETFROM:+0000
TZOFFSETTO:+0000
TZNAME:UTC
DTSTART:20220101T000000
END:STANDARD
END:VTIMEZONE
BEGIN:VEVENT
DTSTART;TZID=UTC:20220114T183000
DTEND;TZID=UTC:20220114T193000
DTSTAMP:20260423T182448
CREATED:20211207T133555Z
LAST-MODIFIED:20221219T140213Z
UID:2816-1642185000-1642188600@www.rccgpraisehouse.org
SUMMARY:Prayer Meeting
DESCRIPTION:Would you like to improve your prayer life? Do you have issues you want to prayer about? Would you like time out to pray with brethren? \nThen join intercessors on every Friday at the church for a time of prayer
URL:https://www.rccgpraisehouse.org/event/prayer-meeting-28/
LOCATION:RCCG Praise House\, 6240 Brewbaker BLVD\, Montgomery\, AL\, 36116\, United States
ATTACH;FMTTYPE=image/jpeg:https://www.rccgpraisehouse.org/wp-content/uploads/2019/10/h1-slider-1-slide-1.jpg
ORGANIZER;CN="RCCG%20Praise%20House":MAILTO:info@rccgpraisehouse.com
END:VEVENT
END:VCALENDAR