BEGIN:VCALENDAR
VERSION:2.0
PRODID:-//RCCG Praise House - ECPv5.8.2//NONSGML v1.0//EN
CALSCALE:GREGORIAN
METHOD:PUBLISH
X-WR-CALNAME:RCCG Praise House
X-ORIGINAL-URL:https://www.rccgpraisehouse.org
X-WR-CALDESC:Events for RCCG Praise House
BEGIN:VTIMEZONE
TZID:UTC
BEGIN:STANDARD
TZOFFSETFROM:+0000
TZOFFSETTO:+0000
TZNAME:UTC
DTSTART:20240101T000000
END:STANDARD
END:VTIMEZONE
BEGIN:VEVENT
DTSTART;TZID=UTC:20240524T180000
DTEND;TZID=UTC:20240526T190000
DTSTAMP:20260423T153226
CREATED:20240529T050554Z
LAST-MODIFIED:20240529T050554Z
UID:2976-1716573600-1716750000@www.rccgpraisehouse.org
SUMMARY:Annual Women's Conference
DESCRIPTION:Praise Night on May 24th\, 6:00PM \nDinner on May 25th\, 5:00PM \nThanks Giving on May 26th\, 11:00AM
URL:https://www.rccgpraisehouse.org/event/annual-womens-conference/
LOCATION:RCCG Praise House\, 6240 Brewbaker BLVD\, Montgomery\, AL\, 36116\, United States
ATTACH;FMTTYPE=image/jpeg:https://www.rccgpraisehouse.org/wp-content/uploads/2024/05/RCCG-EVENTS-1.jpeg
ORGANIZER;CN="RCCG%20Praise%20House":MAILTO:info@rccgpraisehouse.com
END:VEVENT
END:VCALENDAR